BEGIN:VCALENDAR
PRODID:-//kirchenweb.ch gmbh//veranstaltungsausgabe v2.0//DE
VERSION:2.0
METHOD:PUBLISH
BEGIN:VEVENT
DTSTART:20261220T084000Z
DTEND:20261220T094000Z
LOCATION:Kirche Haldenbüel\, Hochstrasse 2\, 9200 Gossau
TRANSP:OPAQUE
SEQUENCE:0
UID:46451-veranstaltung@kirche-gossau-flawil.ch
DTSTAMP:20260302T093327Z
DESCRIPTION:Mögen Sie einen schlichten Ablauf\, eine zeitgemässe
  Predigt\, Orgelmusik und Lieder aus dem reformierten Gesangbuch? Dann ist
  der Gottesdienst mit dem Label einfach ruhig etwas für Sie.\n\nDer
  Kirchenbus fährt und der Kirchenkaffee findet statt!\n\nDer Gottesdienst
  wird auch live (www.ref-gossau.ch/live) übertragen oder kann zu einem
  späteren Zeitpunkt über unseren Podcast (www.ref-gossau.ch/podcast)
  angeschaut werden.\n\n\nKontakt: Pfarrer Pius Helfenstein\n\nWeitere
  Infos: https://www.kirche-gossau-flawil.ch/veranstaltung/46451
SUMMARY:Gottesdienst "einfach ruhig" - 4. Advent
PRIORITY:5
X-MICROSOFT-CDO-IMPORTANCE:1
CLASS:PUBLIC
END:VEVENT
END:VCALENDAR
