BEGIN:VCALENDAR
PRODID:-//kirchenweb.ch gmbh//veranstaltungsausgabe v2.0//DE
VERSION:2.0
METHOD:PUBLISH
BEGIN:VEVENT
DTSTART:20260528T073000Z
DTEND:20260528T083000Z
LOCATION:Vita Tertia Stiftung\, im Weiher\, 9200 Gossau
TRANSP:OPAQUE
SEQUENCE:0
UID:46487-veranstaltung@kirche-gossau-flawil.ch
DTSTAMP:20251202T125717Z
DESCRIPTION:Im Haus Weiher\n\nHerzlich eingeladen sind Heimbewohner und
  -bewohnerinnen aber natürlich auch Besucherinnen und Besucher\n
 \nKontakt: Pfarrerin Friederike Herbrechtsmeier\n\nWeitere Infos:
  https://www.kirche-gossau-flawil.ch/veranstaltung/46487
SUMMARY:Heimgottesdienst Vita Tertia
PRIORITY:5
X-MICROSOFT-CDO-IMPORTANCE:1
CLASS:PUBLIC
END:VEVENT
END:VCALENDAR
