BEGIN:VCALENDAR
PRODID:-//kirchenweb.ch gmbh//veranstaltungsausgabe v2.0//DE
VERSION:2.0
METHOD:PUBLISH
BEGIN:VEVENT
DTSTART:20260405T041500Z
DTEND:20260405T051500Z
LOCATION:Friedhof Hofegg\, Friedhofstrasse 15\, 9200 Gossau
TRANSP:OPAQUE
SEQUENCE:0
UID:46496-veranstaltung@kirche-gossau-flawil.ch
DTSTAMP:20260316T071800Z
DESCRIPTION:In der Morgendämmerung hören wir die frohe Botschaft. Die
  aufgehende Sonne\, als Zeichen für Christus den Auferstandenen\,
  vertreibt die Nacht und bringt Licht in unsere Welt.\nIm Anschluss sind
  Sie herzlich zu einem einfachen Frühstück im Pauluszentrum eingeladen.
 \n\nDer Kirchenbus fährt nicht.\n\n\n\nKontakt: Pfarrer Christian
  Bernhard-Bergmaier\n\nWeitere Infos:
  https://www.kirche-gossau-flawil.ch/veranstaltung/46496
SUMMARY:Ökum. Ostermorgenfeier auf dem Friedhof Hofegg
PRIORITY:5
X-MICROSOFT-CDO-IMPORTANCE:1
CLASS:PUBLIC
END:VEVENT
END:VCALENDAR
