BEGIN:VCALENDAR
PRODID:-//kirchenweb.ch gmbh//veranstaltungsausgabe v2.0//DE
VERSION:2.0
METHOD:PUBLISH
BEGIN:VEVENT
DTSTART:20260427T071500Z
DTEND:20260427T090000Z
LOCATION:Alterssiedlung Wiesental\, Gemeinschaftsraum\, Lindenstrasse 4\,
  9204 Andwil
TRANSP:OPAQUE
SEQUENCE:0
UID:46508-veranstaltung@kirche-gossau-flawil.ch
DTSTAMP:20251204T150902Z
DESCRIPTION:«Frühstück»\n\nEin Angebot für Alle. Im Wiesentaltreff
  können sich Menschen im Alltag begegnen\, unabhängig von Konfession
  oder Alter.\n\n\nKontakt: Pfrn. Friederike Herbrechtsmeier\n\nWeitere
  Infos: https://www.kirche-gossau-flawil.ch/veranstaltung/46508
SUMMARY:Wiesental-Treff Andwil
PRIORITY:5
X-MICROSOFT-CDO-IMPORTANCE:1
CLASS:PUBLIC
END:VEVENT
END:VCALENDAR
