BEGIN:VCALENDAR
PRODID:-//kirchenweb.ch gmbh//veranstaltungsausgabe v2.0//DE
VERSION:2.0
METHOD:PUBLISH
BEGIN:VEVENT
DTSTART:20260518T071500Z
DTEND:20260518T090000Z
LOCATION:Alterssiedlung Wiesental\, Gemeinschaftsraum\, Lindenstrasse 4\,
  9204 Andwil
TRANSP:OPAQUE
SEQUENCE:0
UID:46509-veranstaltung@kirche-gossau-flawil.ch
DTSTAMP:20251204T150918Z
DESCRIPTION:«250 Jahre USA»\n\nEin Angebot für Alle. Im Wiesentaltreff
  können sich Menschen im Alltag begegnen\, unabhängig von Konfession
  oder Alter.\n\n\nKontakt: Pfrn. Friederike Herbrechtsmeier\n\nWeitere
  Infos: https://www.kirche-gossau-flawil.ch/veranstaltung/46509
SUMMARY:Wiesental-Treff Andwil
PRIORITY:5
X-MICROSOFT-CDO-IMPORTANCE:1
CLASS:PUBLIC
END:VEVENT
END:VCALENDAR
