BEGIN:VCALENDAR
PRODID:-//kirchenweb.ch gmbh//veranstaltungsausgabe v2.0//DE
VERSION:2.0
METHOD:PUBLISH
BEGIN:VEVENT
DTSTART:20261026T081500Z
DTEND:20261026T100000Z
LOCATION:Alterssiedlung Wiesental\, Gemeinschaftsraum\, Lindenstrasse 4\,
  9204 Andwil
TRANSP:OPAQUE
SEQUENCE:0
UID:46513-veranstaltung@kirche-gossau-flawil.ch
DTSTAMP:20251204T151021Z
DESCRIPTION:«Bibel»\n\nEin Angebot für Alle. Im Wiesentaltreff können
  sich Menschen im Alltag begegnen\, unabhängig von Konfession oder Alter.
 \n\n\nKontakt: Pfrn. Friederike Herbrechtsmeier\n\nWeitere Infos:
  https://www.kirche-gossau-flawil.ch/veranstaltung/46513
SUMMARY:Wiesental-Treff Andwil
PRIORITY:5
X-MICROSOFT-CDO-IMPORTANCE:1
CLASS:PUBLIC
END:VEVENT
END:VCALENDAR
