BEGIN:VCALENDAR
PRODID:-//kirchenweb.ch gmbh//veranstaltungsausgabe v2.0//DE
VERSION:2.0
METHOD:PUBLISH
BEGIN:VEVENT
DTSTART:20261029T134500Z
DTEND:20261029T144500Z
LOCATION:Gemeinschaftshaus Witenwis\, Neuchlenstrasse 38\, 9200 Gossau
TRANSP:OPAQUE
SEQUENCE:0
UID:46524-veranstaltung@kirche-gossau-flawil.ch
DTSTAMP:20251204T151347Z
DESCRIPTION:Herzliche Einladung zum Mitsingen für singfreudige
  Seniorinnen und Senioren.\n\nKontakt: Marianne Anderegg\n\nWeitere Infos:
  https://www.kirche-gossau-flawil.ch/veranstaltung/46524
SUMMARY:Singen für Ältere
PRIORITY:5
X-MICROSOFT-CDO-IMPORTANCE:1
CLASS:PUBLIC
END:VEVENT
END:VCALENDAR
