BEGIN:VCALENDAR
PRODID:-//kirchenweb.ch gmbh//veranstaltungsausgabe v2.0//DE
VERSION:2.0
METHOD:PUBLISH
BEGIN:VEVENT
DTSTART:20260617T073000Z
DTEND:20260617T083000Z
LOCATION:Gemeinschaftshaus Witenwis\, Neuchlenstrasse 38\, 9200 Gossau
TRANSP:OPAQUE
SEQUENCE:0
UID:46912-veranstaltung@kirche-gossau-flawil.ch
DTSTAMP:20251216T103601Z
DESCRIPTION:Lieder\, Reime und Fingerspiele. \nSingen macht glücklich\,
  fit und schlau! «Summ summ summ» über «Miis Pony» bis «Eseli\,
  Eseli chlii und grau»\n\nFür Eltern mit Kindern von 15 Monaten bis 3
  Jahren. \n\nDas Eltern-Kind-Singen findet einmal wöchentlich\, jeweils
  eine halbe bis dreiviertel Stunde statt.\nNach dem Singen entspanntes
  Kaffeetrinken und Znüni im s’Bistro mit Kinderspielecke.\n\nKosten:
  Fr. 96.- / Fr. 126.- für zwei Kinder (16 Einheiten)\n\nKontakt: Antje
  Voigt\n\nWeitere Infos:
  https://www.kirche-gossau-flawil.ch/veranstaltung/46912
SUMMARY:Klangwiese Eltern-Kind-Singen bis 3 Jahre
PRIORITY:5
X-MICROSOFT-CDO-IMPORTANCE:1
CLASS:PUBLIC
END:VEVENT
END:VCALENDAR
