BEGIN:VCALENDAR
PRODID:-//kirchenweb.ch gmbh//veranstaltungsausgabe v2.0//DE
VERSION:2.0
METHOD:PUBLISH
BEGIN:VEVENT
DTSTART:20260920T150000Z
DTEND:20260920T160000Z
LOCATION:Katholische Kirche St. Otmar Andwil\, Arneggerstrasse 3\, 9204
  Andwil
TRANSP:OPAQUE
SEQUENCE:0
UID:46920-veranstaltung@kirche-gossau-flawil.ch
DTSTAMP:20251217T092113Z
DESCRIPTION:Kontakt: Pfarrer Christian Bernhard-Bergmaier\n\nWeitere
  Infos: https://www.kirche-gossau-flawil.ch/veranstaltung/46920
SUMMARY:Ökum. Abendgebet am Bettag in Andwil
PRIORITY:5
X-MICROSOFT-CDO-IMPORTANCE:1
CLASS:PUBLIC
END:VEVENT
END:VCALENDAR
