BEGIN:VCALENDAR
PRODID:-//kirchenweb.ch gmbh//veranstaltungsausgabe v2.0//DE
VERSION:2.0
METHOD:PUBLISH
BEGIN:VEVENT
DTSTART:20260514T080000Z
DTEND:20260514T090000Z
LOCATION:Kirche Oberglatt\, \, 9230 Flawil
TRANSP:OPAQUE
SEQUENCE:0
UID:46933-veranstaltung@kirche-gossau-flawil.ch
DTSTAMP:20260302T082605Z
DESCRIPTION:Kontakt: Pfarrerin Friederike Herbrechtsmeier\n\nWeitere
  Infos: https://www.kirche-gossau-flawil.ch/veranstaltung/46933
SUMMARY:Regio-Gottesdienst an Auffahrt in Oberglatt
PRIORITY:5
X-MICROSOFT-CDO-IMPORTANCE:1
CLASS:PUBLIC
END:VEVENT
END:VCALENDAR
