BEGIN:VCALENDAR
PRODID:-//kirchenweb.ch gmbh//veranstaltungsausgabe v2.0//DE
VERSION:2.0
METHOD:PUBLISH
BEGIN:VEVENT
DTSTART:20260611T170000Z
DTEND:20260611T180000Z
LOCATION:Gemeinschaftshaus Witenwis\, Neuchlenstrasse 38\, 9200 Gossau
TRANSP:OPAQUE
SEQUENCE:0
UID:47022-veranstaltung@kirche-gossau-flawil.ch
DTSTAMP:20251229T082343Z
DESCRIPTION:Die Gruppe trifft sich jeden Donnerstag (ausser den
  Schulferien).\n\nIn heilender Stille suchen wir die Gemeinschaft mit
  Gott. Sie sind jederzeit herzlich zu einem Schnupperabend eingeladen.\n
 \nKontakt: Emanuel Kummer\, St. Otmarstrasse 10\, 9204 Andwil\n\nWeitere
  Infos: https://www.kirche-gossau-flawil.ch/veranstaltung/47022
SUMMARY:Ökumenische Meditationsgruppe
PRIORITY:5
X-MICROSOFT-CDO-IMPORTANCE:1
CLASS:PUBLIC
END:VEVENT
END:VCALENDAR
