BEGIN:VCALENDAR
PRODID:-//kirchenweb.ch gmbh//veranstaltungsausgabe v2.0//DE
VERSION:2.0
METHOD:PUBLISH
BEGIN:VEVENT
DTSTART:20260420T094500Z
DTEND:20260420T103000Z
LOCATION:Marktstübli Gossau\, Gutenbergstrasse 8\, 9200 Gossau
TRANSP:OPAQUE
SEQUENCE:0
UID:47054-veranstaltung@kirche-gossau-flawil.ch
DTSTAMP:20260105T104411Z
DESCRIPTION:Jeden Montag Mittagstisch\n\nDas Essen wird zwischen 11.45 und
  12.30 Uhr serviert. \n\nReservation unter 071 422 49 24\,
  schoenenberger.maria@teleb.ch\n\nPreise Mittagessen:\nkostenlos mit
  Legi-Ausweis\nFr. 10.00 ohne Ausweis\nFr.   2.00 für Kinder\n\nEin
  Kaffee kostet Fr. 1.00 ohne Ausweis.\n\nWer nicht kommen kann\, bitte
  abmelden 079 628 46 36 \n\nDie Gönner des Mittagstischs sind:\n\n\nStadt
  Gossau\nacrevis Bank\nMetzgerei Forster\, Arnegg\nStadtbühler\nkoller's
  Bäckerei\nRaiffeisen\nggk sg\n\nKontakt: Maria Schönenberger\n\nWeitere
  Infos: https://www.kirche-gossau-flawil.ch/veranstaltung/47054
SUMMARY:Tavola Mittagstisch
PRIORITY:5
X-MICROSOFT-CDO-IMPORTANCE:1
CLASS:PUBLIC
END:VEVENT
END:VCALENDAR
