BEGIN:VCALENDAR
PRODID:-//kirchenweb.ch gmbh//veranstaltungsausgabe v2.0//DE
VERSION:2.0
METHOD:PUBLISH
BEGIN:VEVENT
DTSTART:20260520T083000Z
DTEND:20260520T093000Z
LOCATION:Kirchgemeindehaus Haldenbüel\, Hochstrasse 4a\, 9200 Gossau
TRANSP:OPAQUE
SEQUENCE:0
UID:47093-veranstaltung@kirche-gossau-flawil.ch
DTSTAMP:20260108T082243Z
DESCRIPTION:Wenn Sie mit dem Kirchenbus abgeholt werden möchten\, melden
  Sie sich bitte bei Hanspeter Frischknecht 079 782 87 91 oder bei Pfrn.
  Friederike Herbrechtsmeier\, 071 577 09 43.\n\nKontakt: Pfarrerin
  Friederike Herbrechtsmeier\n\nWeitere Infos:
  https://www.kirche-gossau-flawil.ch/veranstaltung/47093
SUMMARY:Gespräche zur Bibel
PRIORITY:5
X-MICROSOFT-CDO-IMPORTANCE:1
CLASS:PUBLIC
END:VEVENT
END:VCALENDAR
