BEGIN:VCALENDAR
PRODID:-//kirchenweb.ch gmbh//veranstaltungsausgabe v2.0//DE
VERSION:2.0
METHOD:PUBLISH
BEGIN:VEVENT
DTSTART:20260705T073000Z
DTEND:20260705T100000Z
LOCATION:Kirchgemeindehaus Haldenbüel\, Hochstrasse 4a\, 9200 Gossau
TRANSP:OPAQUE
SEQUENCE:0
UID:47174-veranstaltung@kirche-gossau-flawil.ch
DTSTAMP:20260122T075154Z
DESCRIPTION:miteinander - feiern - erleben - essen - reden - sein\n\nFür
  Alle ab Anfang der 3. Oberstufe\, Lernende\, Studierende\, Junge
  Erwachsene.\n\nDer Brunch findet im Kirchgemeindehaus Haldenbüel statt.
  Mit open end.\n\n09.30 Uhr Besammlung vor der Kirche\n09.40 Uhr
  Gottesdienst «PoP uP!»\nanschliessend Brunch im Kirchgemeindehaus
  Haldenbüel im Kursraum\n\nFür weitere Informationen klicke aufs Bild
  und melde dich beim https://www.kirche-gossau-flawil.ch/dok/3565an.\n
 \nKontakt: Simona Spälti\n\nWeitere Infos:
  https://www.kirche-gossau-flawil.ch/veranstaltung/47174
SUMMARY:Spotlight Brunch
PRIORITY:5
X-MICROSOFT-CDO-IMPORTANCE:1
CLASS:PUBLIC
END:VEVENT
END:VCALENDAR
