BEGIN:VCALENDAR
PRODID:-//kirchenweb.ch gmbh//veranstaltungsausgabe v2.0//DE
VERSION:2.0
METHOD:PUBLISH
BEGIN:VEVENT
DTSTART:20261212T183000Z
DTEND:20261212T193000Z
LOCATION:Pauluskirche Gossau\, Otmarstrasse 24\, 9200 Gossau
TRANSP:OPAQUE
SEQUENCE:0
UID:47205-veranstaltung@kirche-gossau-flawil.ch
DTSTAMP:20260126T083036Z
DESCRIPTION:Kontakt: Pfarrer Hannes Witzig-Brändli\n\nWeitere Infos:
  https://www.kirche-gossau-flawil.ch/veranstaltung/47205
SUMMARY:Feel the Light
PRIORITY:5
X-MICROSOFT-CDO-IMPORTANCE:1
CLASS:PUBLIC
END:VEVENT
END:VCALENDAR
