BEGIN:VCALENDAR
PRODID:-//kirchenweb.ch gmbh//veranstaltungsausgabe v2.0//DE
VERSION:2.0
METHOD:PUBLISH
BEGIN:VEVENT
DTSTART:20260427T090000Z
DTEND:20260427T130000Z
LOCATION:Kronberg\, St. Josefstrasse 2\, 9108 Jakobsbad
TRANSP:OPAQUE
SEQUENCE:0
UID:47232-veranstaltung@kirche-gossau-flawil.ch
DTSTAMP:20260309T103801Z
DESCRIPTION:Mit der Seilbahn fahren wir auf den Kronberg\, geniessen ein
  feines Mittagessen im Berggasthaus\, \nund freuen uns auf die
  musikalische Unterhaltung mit dem «Landfrauenchörli Brunnadern.\nBis
  ca. 15.00 wird gesungen\, werden Witze erzählt\, Bilder gezeigt und
  Gedichte von den Landfrauen vorgetragen.\n\nMontag\, 27. April 2026
 \nTreffpunkt: 10.10 Perron Appenzellerbahnen Gossau\nTreffpunkt für
  Selbstfahrer: 10.50 Talstation Kronbergbahn\n\nKostenbeitrag: CHF 65.–
  / Person\ninkl. Berg- und Talfahrt\, Mittagessen\, \nUnterhaltung\,
  Dessert\, Kaffee (ohne Zug)\n\nZug-Gruppenbillet:\nCHF   9.– / Person
  mit H-Tax\nCHF 18.– / Person ohne H-Tax\nBezahlung im Zug\n\nAnmeldung:
  \nbis 16. April 2026 mit QR Code oder bei \nBeni Sutter oder Bruno/Romy
  Fisch\n\nKontakt: Benjamin Sutter und Romy+Bruno Fisch\n\nWeitere Infos:
  https://www.kirche-gossau-flawil.ch/veranstaltung/47232
SUMMARY:Erwachsenenplausch auf dem Kronberg
PRIORITY:5
X-MICROSOFT-CDO-IMPORTANCE:1
CLASS:PUBLIC
END:VEVENT
END:VCALENDAR
