BEGIN:VCALENDAR
PRODID:-//kirchenweb.ch gmbh//veranstaltungsausgabe v2.0//DE
VERSION:2.0
METHOD:PUBLISH
BEGIN:VEVENT
DTSTART:20260605T130000Z
DTEND:20260605T150000Z
LOCATION:Velomuseum Rehetobel\, Heidenerstrasse 4\, 9038 Rehetobel
TRANSP:OPAQUE
SEQUENCE:0
UID:47233-veranstaltung@kirche-gossau-flawil.ch
DTSTAMP:20260423T133300Z
DESCRIPTION:Mit Zug und Postauto fahren wir nach Rehetobel\, und bestaunen
  eine Sammlung historischer Fahrräder mit Objekten aus zwei
  Jahrhunderten. Vom Beginn des Zeitalters des Fahrrades bis \nin die
  Gegenwart.\nAnschliessend treffen wir uns zum gemütlichen Ausklang im
  heimeligen Gasthaus Dorf 5 zu\neinem feinen Vesperplättli.\n\nTreffpunkt
 \n13.30 beim Bahnhof Kiosk Gossau\n\nKostenbeitrag\nCHF 20.– / Person
  für die Führung und Vesperplättli\n\nZug-Gruppenbillet\nCHF   5.50 /
  Person mit H-Tax\nCHF  11.–  / Person ohne H-Tax\n\nAnmeldung: \nbis
  16. Mai 2026 Bruno / Romy Fisch\n077 406 59 41\n\n\nKontakt: Bruno und
  Romy Fisch\n\nWeitere Infos:
  https://www.kirche-gossau-flawil.ch/veranstaltung/47233
SUMMARY:Besuch Velomuseum Rehetobel
PRIORITY:5
X-MICROSOFT-CDO-IMPORTANCE:1
CLASS:PUBLIC
END:VEVENT
END:VCALENDAR
