BEGIN:VCALENDAR
PRODID:-//kirchenweb.ch gmbh//veranstaltungsausgabe v2.0//DE
VERSION:2.0
METHOD:PUBLISH
BEGIN:VEVENT
DTSTART:20261102T130000Z
DTEND:20261102T150000Z
LOCATION:Glas Trösch AG\, Lagerstrasse 4\, 9200 Gossau
TRANSP:OPAQUE
SEQUENCE:0
UID:47234-veranstaltung@kirche-gossau-flawil.ch
DTSTAMP:20260128T101605Z
DESCRIPTION:Wir tauchen ein in das dynamisch wachsendes
  Familienunternehmen\, das sich seit über 100 Jahren dem faszinierenden
  Werkstoff Glas widmet.\n\n\nKontakt: Benjamin Sutter\n\nWeitere Infos:
  https://www.kirche-gossau-flawil.ch/veranstaltung/47234
SUMMARY:Führung Glas Trösch in Gossau
PRIORITY:5
X-MICROSOFT-CDO-IMPORTANCE:1
CLASS:PUBLIC
END:VEVENT
END:VCALENDAR
