BEGIN:VCALENDAR
PRODID:-//kirchenweb.ch gmbh//veranstaltungsausgabe v2.0//DE
VERSION:2.0
METHOD:PUBLISH
BEGIN:VEVENT
DTSTART:20260517T074000Z
DTEND:20260517T084000Z
LOCATION:Kirche Haldenbüel\, Hochstrasse 2\, 9200 Gossau
TRANSP:OPAQUE
SEQUENCE:0
UID:47698-veranstaltung@kirche-gossau-flawil.ch
DTSTAMP:20260422T073945Z
DESCRIPTION:Beim Gottesdienst mit musikalischen Gästen ist das Label
  Programm. Musikalische Gäste gestalten den Gottesdienst wesentlich mit
  und schaffen mit ihrer Musik eine besondere Atmosphäre.\n\nHeute werden
  neue Kirchenvorsteher:innen des Kantons St. Gallen in ihr Amt
  eingeführt.\n\nNach dem Gottesdienst findet ein Apéro im
  Kirchgemeindehaus Haldenbüel statt.\n\nDer Kirchenbus fährt. \n\nDer
  Gottesdienst wird auch live (www.ref-gossau.ch/live) übertragen oder
  kann zu einem späteren Zeitpunkt über unseren Podcast
  (www.ref-gossau.ch/podcast) angeschaut werden.\n\nKontakt: Pfarrerin
  Friederike Herbrechtsmeier\n\nWeitere Infos:
  https://www.kirche-gossau-flawil.ch/veranstaltung/47698
SUMMARY:Gottesdienst "mit musikalischen Gästen"
PRIORITY:5
X-MICROSOFT-CDO-IMPORTANCE:1
CLASS:PUBLIC
END:VEVENT
END:VCALENDAR
