BEGIN:VCALENDAR
PRODID:-//kirchenweb.ch gmbh//veranstaltungsausgabe v2.0//DE
VERSION:2.0
METHOD:PUBLISH
BEGIN:VEVENT
DTSTART:20260617T073000Z
DTEND:20260617T143000Z
LOCATION:Gemeinschaftshaus Witenwis\, Neuchlenstrasse 38\, 9200 Gossau
TRANSP:OPAQUE
SEQUENCE:0
UID:47904-veranstaltung@kirche-gossau-flawil.ch
DTSTAMP:20260323T081731Z
DESCRIPTION:Alle sind herzlich Willkommen.\nDas aktuelle Menü finden sie
  hier:  \nNachmittags bis 16.30h offen.\n\nKontakt: Annette Joss\n
 \nWeitere Infos: https://www.kirche-gossau-flawil.ch/veranstaltung/47904
SUMMARY:s'Bistro ist offen
PRIORITY:5
X-MICROSOFT-CDO-IMPORTANCE:1
CLASS:PUBLIC
END:VEVENT
END:VCALENDAR
