BEGIN:VCALENDAR
PRODID:-//kirchenweb.ch gmbh//veranstaltungsausgabe v2.0//DE
VERSION:2.0
METHOD:PUBLISH
BEGIN:VEVENT
DTSTART:20260625T073000Z
DTEND:20260625T143000Z
LOCATION:Gemeinschaftshaus Witenwis\, Neuchlenstrasse 38\, 9200 Gossau
TRANSP:OPAQUE
SEQUENCE:0
UID:47915-veranstaltung@kirche-gossau-flawil.ch
DTSTAMP:20260323T081957Z
DESCRIPTION:Das aktuelle http://www.sbistro.ch finden Sie hier. Eine
  Anmeldung wird empfohlen. 079 107 77 04\n\nKontakt: Annette Joss\n
 \nWeitere Infos: https://www.kirche-gossau-flawil.ch/veranstaltung/47915
SUMMARY:s'Bistro ist offen
PRIORITY:5
X-MICROSOFT-CDO-IMPORTANCE:1
CLASS:PUBLIC
END:VEVENT
END:VCALENDAR
