BEGIN:VCALENDAR
PRODID:-//kirchenweb.ch gmbh//veranstaltungsausgabe v2.0//DE
VERSION:2.0
METHOD:PUBLISH
BEGIN:VEVENT
DTSTART:20260916T123000Z
DTEND:20260916T133000Z
LOCATION:Andreas-Saal Gossau\, Merkurstrasse 3\, 9200 Gossau
TRANSP:OPAQUE
SEQUENCE:0
UID:48072-veranstaltung@kirche-gossau-flawil.ch
DTSTAMP:20260409T071703Z
DESCRIPTION:Alle Seniorinnen und Senioren sind herzlich eingeladen.\n\nDas
  Seniorenteam freut sich auf Sie.\n\nAnmeldung bis Dienstag vor dem
  Seniorennachmittag beim katholischen Pfarramt\n071 388 18 48
 \nhttp://pfarramt@kathgossau.ch\n\n\n\nKontakt: Katholisches Pfarramt\n
 \nWeitere Infos: https://www.kirche-gossau-flawil.ch/veranstaltung/48072
SUMMARY:Ökumenischer Seniorinnen- und Seniorennachmittag im Andreas-Saal
PRIORITY:5
X-MICROSOFT-CDO-IMPORTANCE:1
CLASS:PUBLIC
END:VEVENT
END:VCALENDAR
