BEGIN:VCALENDAR
PRODID:-//kirchenweb.ch gmbh//veranstaltungsausgabe v2.0//DE
VERSION:2.0
METHOD:PUBLISH
BEGIN:VEVENT
DTSTART:20260508T080000Z
DTEND:20260508T150000Z
LOCATION:Pauluszentrum Gossau\, Otmarstrasse 24\, 9200 Gossau
TRANSP:OPAQUE
SEQUENCE:0
UID:48102-veranstaltung@kirche-gossau-flawil.ch
DTSTAMP:20260420T130544Z
DESCRIPTION:Die nachhaltige Leihtasche\n\nÖffentlicher Nähtag rsp.
  -nachmittag im Pauluszentrum\n\nAn diesen Nähtag werden aus alten
  Stoffen und Stoffresten Einkaufstaschen hergestellt\, die den Kunden in
  Geschäften als Leihtaschen zur Verfügung stehen.\n\nAnmeldung bis einen
  Tag vor Veranstaltung unter\nbb-gossausg.umgebung@gmx.ch oder 071 383 20
  52\n\nWeiterer Nähnachmittag findet am Donnerstag\, 21. Mai 2026\,
  13.30-17.00 Uhr statt.\n\n071/383‘20‘52\nbb-gossausg.umgebung@gmx.ch
 \nBoomerang Bags Gossau SG & Umgebung (facebook)\nwww.boomerangbags.org\n
 \nKontakt: Stefan & Susanne Süess\n\nWeitere Infos:
  https://www.kirche-gossau-flawil.ch/veranstaltung/48102
SUMMARY:Boomerang Bags - Fair Trade Aktionswoche
PRIORITY:5
X-MICROSOFT-CDO-IMPORTANCE:1
CLASS:PUBLIC
END:VEVENT
END:VCALENDAR
