BEGIN:VCALENDAR
PRODID:-//kirchenweb.ch gmbh//veranstaltungsausgabe v2.0//DE
VERSION:2.0
METHOD:PUBLISH
BEGIN:VEVENT
DTSTART:20261118T110000Z
DTEND:20261118T120000Z
LOCATION:Otmarzentrum\, Arneggerstrasse 3\, 9204 Andwil
TRANSP:OPAQUE
SEQUENCE:0
UID:48111-veranstaltung@kirche-gossau-flawil.ch
DTSTAMP:20260423T084954Z
DESCRIPTION:Herzlich willkommen beim Seniorenzmittag in Andwil. \nWir
  treffen uns im jeweils von Oktober bis April im Otmarzentrum Andwil. Ein
  Mittagessen kostet Fr. 14.00.\n\n\n\nKontakt: Rita Lehmann\n\nWeitere
  Infos: https://www.kirche-gossau-flawil.ch/veranstaltung/48111
SUMMARY:Seniorenzmittag Andwil
PRIORITY:5
X-MICROSOFT-CDO-IMPORTANCE:1
CLASS:PUBLIC
END:VEVENT
END:VCALENDAR
